BEGIN:VCALENDAR
VERSION:2.0
PRODID:-//Muss &amp; Turners - ECPv6.15.12.2//NONSGML v1.0//EN
CALSCALE:GREGORIAN
METHOD:PUBLISH
X-ORIGINAL-URL:https://mussandturners.com
X-WR-CALDESC:Events for Muss &amp; Turners
REFRESH-INTERVAL;VALUE=DURATION:PT1H
X-Robots-Tag:noindex
X-PUBLISHED-TTL:PT1H
BEGIN:VTIMEZONE
TZID:UTC
BEGIN:STANDARD
TZOFFSETFROM:+0000
TZOFFSETTO:+0000
TZNAME:UTC
DTSTART:20240101T000000
END:STANDARD
END:VTIMEZONE
BEGIN:VTIMEZONE
TZID:America/New_York
BEGIN:DAYLIGHT
TZOFFSETFROM:-0500
TZOFFSETTO:-0400
TZNAME:EDT
DTSTART:20240310T070000
END:DAYLIGHT
BEGIN:STANDARD
TZOFFSETFROM:-0400
TZOFFSETTO:-0500
TZNAME:EST
DTSTART:20241103T060000
END:STANDARD
BEGIN:DAYLIGHT
TZOFFSETFROM:-0500
TZOFFSETTO:-0400
TZNAME:EDT
DTSTART:20250309T070000
END:DAYLIGHT
BEGIN:STANDARD
TZOFFSETFROM:-0400
TZOFFSETTO:-0500
TZNAME:EST
DTSTART:20251102T060000
END:STANDARD
BEGIN:DAYLIGHT
TZOFFSETFROM:-0500
TZOFFSETTO:-0400
TZNAME:EDT
DTSTART:20260308T070000
END:DAYLIGHT
BEGIN:STANDARD
TZOFFSETFROM:-0400
TZOFFSETTO:-0500
TZNAME:EST
DTSTART:20261101T060000
END:STANDARD
END:VTIMEZONE
BEGIN:VEVENT
DTSTART;TZID=UTC:20251207T100000
DTEND;TZID=UTC:20251207T150000
DTSTAMP:20260422T092751
CREATED:20251101T120003Z
LAST-MODIFIED:20251106T221743Z
UID:7783-1765101600-1765119600@mussandturners.com
SUMMARY:Santa Brunch 2025
DESCRIPTION:We are thrilled to announce that Santa Claus is making his way back to M&T this holiday season! \nJoin us for an incredible brunch buffet and complimentary digital family photos with Santa by Drew Wills Photography \nSunday\, December 7 & Sunday\, December 14\n10 am – 3 pm \nAdults $50.00\nKids 12 & Under $25.00 \nON THE BUFFET:\nCinnamon Rolls peppermint milk icing \nChocolate Croissant \nFlaky Croissant  \nBerry Yogurt Parfait granola\, honey\, mixed berries \nKale and Farro Salad baby kale\, roasted butternut squash\, pepita gremolata\, pomegranate molasses  \nHouse Salad mixed greens\, shaved carrot\, cucumber\, tomato\, balsamic vinaigrette \nKippered Salmon whipped cream cheese\, red onion\, caper\, dill\, mini everything bagel \nGingerbread Pudding French Toast real maple syrup\, cranberry compote\, whipped cream \nJon’s Biscuits with Black Pepper Gravy  \nSoft Scrambled Eggs  \nQuiche potato\, spinach\, sundried tomato\, feta cheese \nNueske’s Bacon applewood smoked \nChicken Breakfast Sausage  \nCrispy Brussels Sprouts asian pear\, korean bbq sauce\, sesame seed \nMac & Cheese \nSquash Casserole smoked gouda mornay\, ritz cracker topping \nBlanched Thin Beans  roasted pearl onion\, saba \nShrimp & Grits trinity\, cajun spiced butter\, scallion \nConfit “General Tso’s” Chicken Thighs broccoli\, bell pepper\, onion \nPrime Rib horseradish cream\, au jus\, dinner rolls \nWhite Chocolate Cranberry Bread Pudding  \nEvil Cookies (No Nuts) \nWhite Chocolate Brownies \nDark Chocolate Brownies \nIce Cream Bars optional toppings: chocolate chips\, sprinkles\, whipped cream\, chocolate sauce\, strawberry sauce\, caramel\, evil cookie crumbles\, brownie crumbles\, gummy bears\, cherries \nCLICK HERE TO MAKE YOUR RESERVATION
URL:https://mussandturners.com/event/santabrunch127/
LOCATION:Muss & Turner’s\, 1675 Cumberland Parkway SE\, Smyrna\, Georgia\, 30080
ATTACH;FMTTYPE=image/png:https://mussandturners.com/wp-content/uploads/2025/10/MT-Santa-Brunch.png
ORGANIZER;CN="Muss & Turner's":MAILTO:info@mussandturners.com
END:VEVENT
BEGIN:VEVENT
DTSTART;TZID=UTC:20251214T100000
DTEND;TZID=UTC:20251214T150000
DTSTAMP:20260422T092751
CREATED:20251101T120037Z
LAST-MODIFIED:20251106T221638Z
UID:7790-1765706400-1765724400@mussandturners.com
SUMMARY:Santa Brunch
DESCRIPTION:We are thrilled to announce that Santa Claus is making his way back to M&T this holiday season! \nJoin us for an incredible brunch buffet and complimentary digital family photos with Santa by Drew Wills Photography \nSunday\, December 7 & Sunday\, December 14\n10 am – 3 pm \nAdults $50.00\nKids 12 & Under $25.00 \nON THE BUFFET:\nCinnamon Rolls peppermint milk icing \nChocolate Croissant \nFlaky Croissant  \nBerry Yogurt Parfait granola\, honey\, mixed berries \nKale and Farro Salad baby kale\, roasted butternut squash\, pepita gremolata\, pomegranate molasses  \nHouse Salad mixed greens\, shaved carrot\, cucumber\, tomato\, balsamic vinaigrette \nKippered Salmon whipped cream cheese\, red onion\, caper\, dill\, mini everything bagel \nGingerbread Pudding French Toast real maple syrup\, cranberry compote\, whipped cream \nJon’s Biscuits with Black Pepper Gravy  \nSoft Scrambled Eggs  \nQuiche potato\, spinach\, sundried tomato\, feta cheese \nNueske’s Bacon applewood smoked \nChicken Breakfast Sausage  \nCrispy Brussels Sprouts asian pear\, korean bbq sauce\, sesame seed \nMac & Cheese \nSquash Casserole smoked gouda mornay\, ritz cracker topping \nBlanched Thin Beans  roasted pearl onion\, saba \nShrimp & Grits trinity\, cajun spiced butter\, scallion \nConfit “General Tso’s” Chicken Thighs broccoli\, bell pepper\, onion \nPrime Rib horseradish cream\, au jus\, dinner rolls \nWhite Chocolate Cranberry Bread Pudding  \nEvil Cookies (No Nuts) \nWhite Chocolate Brownies \nDark Chocolate Brownies \nIce Cream Bars optional toppings: chocolate chips\, sprinkles\, whipped cream\, chocolate sauce\, strawberry sauce\, caramel\, evil cookie crumbles\, brownie crumbles\, gummy bears\, cherries \nCLICK HERE TO MAKE YOUR RESERVATION
URL:https://mussandturners.com/event/santa-brunch1214/
LOCATION:Muss & Turner’s\, 1675 Cumberland Parkway SE\, Smyrna\, Georgia\, 30080
ATTACH;FMTTYPE=image/png:https://mussandturners.com/wp-content/uploads/2025/10/MT-Santa-Brunch.png
ORGANIZER;CN="Muss & Turner's":MAILTO:info@mussandturners.com
END:VEVENT
BEGIN:VEVENT
DTSTART;TZID=America/New_York:20251215T183000
DTEND;TZID=America/New_York:20251215T203000
DTSTAMP:20260422T092751
CREATED:20251017T015726Z
LAST-MODIFIED:20251128T215502Z
UID:7757-1765823400-1765830600@mussandturners.com
SUMMARY:Holly Jolly Cocktail Tasting Monday 12/15
DESCRIPTION:🎄 HOLLY JOLLY COCKTAIL TASTING 🎄 \nMonday 12/15 \n6:30 PM | $39.93 per person (tax & gratuity included) \nJoin our very own Tricia Doenges to deck the halls with holiday-inspired cocktails that’ll warm even the grinchiest of hearts. \nWe’ll kick things off with a cheerful reception cocktail\, then dive into three holiday-themed creations (served in half sizes because moderation is sometimes a thing). Oh\, and don’t forget: ugly Christmas sweaters are highly encouraged—the tackier\, the better. \n🎅🍸 Reserve now and let the holiday fun begin. \nCLICK HERE TO RESERVE YOUR SEAT
URL:https://mussandturners.com/event/hollyjolly2025monday/
LOCATION:Muss & Turner’s\, 1675 Cumberland Parkway SE\, Smyrna\, Georgia\, 30080
ATTACH;FMTTYPE=image/png:https://mussandturners.com/wp-content/uploads/2025/10/Holly-Jolly-12.15.25.png
ORGANIZER;CN="Muss & Turner's":MAILTO:info@mussandturners.com
END:VEVENT
BEGIN:VEVENT
DTSTART;TZID=America/New_York:20251216T183000
DTEND;TZID=America/New_York:20251216T203000
DTSTAMP:20260422T092751
CREATED:20250916T190805Z
LAST-MODIFIED:20251128T215409Z
UID:7631-1765909800-1765917000@mussandturners.com
SUMMARY:Holly Jolly Cocktail Tasting Tuesday 12/16
DESCRIPTION:🎄 HOLLY JOLLY COCKTAIL TASTING 🎄 \nTuesday 12/16 \n6:30 PM | $39.93 per person (tax & gratuity included) \nJoin our very own Tricia Doenges to deck the halls with holiday-inspired cocktails that’ll warm even the grinchiest of hearts. \nWe’ll kick things off with a cheerful reception cocktail\, then dive into three holiday-themed creations (served in half sizes because moderation is sometimes a thing). Oh\, and don’t forget: ugly Christmas sweaters are highly encouraged—the tackier\, the better. \n🎅🍸 Reserve now and let the holiday fun begin. \nCLICK HERE TO RESERVE YOUR SEAT
URL:https://mussandturners.com/event/hollyjolly2025tuesday/
LOCATION:Muss & Turner’s\, 1675 Cumberland Parkway SE\, Smyrna\, Georgia\, 30080
ATTACH;FMTTYPE=image/png:https://mussandturners.com/wp-content/uploads/2025/09/MT-Website-Tiles.png
ORGANIZER;CN="Muss & Turner's":MAILTO:info@mussandturners.com
END:VEVENT
BEGIN:VEVENT
DTSTART;TZID=America/New_York:20251224T110000
DTEND;TZID=America/New_York:20251224T160000
DTSTAMP:20260422T092751
CREATED:20251127T000310Z
LAST-MODIFIED:20251209T024248Z
UID:7819-1766574000-1766592000@mussandturners.com
SUMMARY:Christmas Carryout Family Meal
DESCRIPTION:Christmas Carryout Family Meal \nDeviled Eggs \nPoblano Pimento Cheese with Lavosh Crackers \nYeast Rolls \nSalad of Mixed Greens Cranberries\, Aged Cheddar\, Candied Pecans\, Balsamic Dressing \nRed Wine Braised Short Rib Whipped Potatoes\, Roasted Root Vegetables\, Horseradish Crema \nMilk Chocolate Pot de Creme \nPeppermint Sable \nFeeds Two Generously (With Leftovers)\nServed Cold With Reheating Instructions\nOrder By Friday 12/19\nPickup on Tuesday 12/23 2pm-6pm or Wednesday 12/24 11am-4pm\n$150 \nCLICK HERE TO ORDER \n*In our online ordering platform\, you will initially be prompted to choose a pickup time for today. Choose any time\, then hit continue. Under the Christmas Carryout Family Meal\, you will be able to choose your actual pickup time for Tuesday\, December 23 or Wednesday\, December 24.
URL:https://mussandturners.com/event/2025christmas-eve-carryout-family-meal/
LOCATION:Muss & Turner’s\, 1675 Cumberland Parkway SE\, Smyrna\, Georgia\, 30080
ATTACH;FMTTYPE=image/png:https://mussandturners.com/wp-content/uploads/2025/12/Xmas.png
ORGANIZER;CN="Muss & Turner's":MAILTO:info@mussandturners.com
END:VEVENT
BEGIN:VEVENT
DTSTART;TZID=America/New_York:20251224T160000
DTEND;TZID=America/New_York:20251224T200000
DTSTAMP:20260422T092751
CREATED:20251128T201352Z
LAST-MODIFIED:20251128T215213Z
UID:7821-1766592000-1766606400@mussandturners.com
SUMMARY:Chinese Christmas Eve Buffet
DESCRIPTION:The last two years you showed up big\, so we’re doing it again—only better! \nJoin us on Christmas Eve 4-8PM for ‘Chinese Christmas Eve’ round 3. \nWe’re featuring an array of crowd favorites on the buffet: \nGinger Salad mixed greens\, carrot\, scallion\, radish\, ginger-miso dressing\nWakame Salad\nSzechuan Cucumbers\nPotstickers duck sauce\, chili soy\nHot and Sour Soup crispy wonton chips\nVegetable Lo Mein\nDry Fried Green Beans\nPeter Chang’s Crispy Eggplant\nGeneral Tso’s Broccoli and Carrots\nSteamed Rice\nShrimp Fried Rice\nSesame Chicken\nGarlic Shrimp\nMongolian Beef\nKung Pao Chicken\nSweet and Sour Pork\nBamboo Fish black bean sauce snap peas\, mushrooms\nPepper Steak\nFull Char Siu Pig Carving Station sweet soy\, scallion sauce\, char siu sauce\, steam buns\nIce Cream Station optional toppings: chocolate chips\, sprinkles\, whipped cream\, chocolate sauce\, strawberry sauce\, caramel\, evil cookie crumbles\, brownie crumbles\, gummy bears\, cherries\nHot Green Tea \nAdults $40\nKids 12 & Under $20 \nCLICK HERE TO MAKE YOUR RESERVATION
URL:https://mussandturners.com/event/2025chinese-christmas-eve/
LOCATION:Muss & Turner’s\, 1675 Cumberland Parkway SE\, Smyrna\, Georgia\, 30080
ATTACH;FMTTYPE=image/png:https://mussandturners.com/wp-content/uploads/2025/11/MT-Chinese-Xmas-Eve-1.png
ORGANIZER;CN="Muss & Turner's":MAILTO:info@mussandturners.com
END:VEVENT
BEGIN:VEVENT
DTSTART;TZID=America/New_York:20251230T183000
DTEND;TZID=America/New_York:20251230T203000
DTSTAMP:20260422T092751
CREATED:20250930T010837Z
LAST-MODIFIED:20251205T022853Z
UID:7633-1767119400-1767126600@mussandturners.com
SUMMARY:Champagne Tasting Hosted by Dawn Marie - 12/30
DESCRIPTION:Pop the cork on your New Year’s celebration early with a Champagne Tasting hosted by Dawn Marie at Muss & Turner’s! \nDawn Marie Brown is a certified wine whisperer and reformed restaurant gladiator who has spent the last 10 years on the distributor side of the wine world\, spreading the gospel of grapes through fun and approachable wine tastings that prove learning about wine doesn’t have to feel like a chemistry exam. Her knowledge and charm\, paired with a healthy splash of sass\, makes sure our Tuesday Wine Tastings are as delicious as they are fun. Don’t ask her to pick a favorite varietal\, or style or region. Just kidding…IT’S CHAMPAGNE!! \nSeats are $95.40 per person (this amount covers tax & gratuity) and include a bunch of bubbles along with an assortment of chef’s fancy snacks. The tasting on Tuesday 12/30 will be held at our Community Table in the dining room and kicks off at 6:30PM. \nCLICK HERE TO RESERVE YOUR SEAT
URL:https://mussandturners.com/event/champagnecelebration2025/
LOCATION:Muss & Turner’s\, 1675 Cumberland Parkway SE\, Smyrna\, Georgia\, 30080
ATTACH;FMTTYPE=image/jpeg:https://mussandturners.com/wp-content/uploads/2025/09/Wine-Tasting-Flyer.jpg
ORGANIZER;CN="Muss & Turner's":MAILTO:info@mussandturners.com
END:VEVENT
BEGIN:VEVENT
DTSTART;TZID=UTC:20251231T160000
DTEND;TZID=UTC:20251231T220000
DTSTAMP:20260422T092751
CREATED:20251212T202133Z
LAST-MODIFIED:20251215T233143Z
UID:7840-1767196800-1767218400@mussandturners.com
SUMMARY:New Year's Eve
DESCRIPTION:Celebrate New Year’s Eve the delicious way! Join us for a night of festive flavors\, featuring our incredible dinner specials—bold\, beautifully plated\, and created just for the occasion. When midnight arrives\, we’ll gather together for a bubbly Champagne toast in Eleanor’s to kick off the new year with joy and good cheer. Bring your friends\, your appetite\, and your sparkle—we’ll handle the rest. \nSMALL PLATES \nThe Humpty Dumpty\nCaviar\, Sauce Gribeche\, Whipped Creme Fraiche\, Black Tobiko\, Potato Chips \nFoie Gras Mole\nToasted Brioche\, Mole\, Strawberry Jam\, Clotted Cream \nScallop Crudo\nWinter Melon Foam\, Champagne Gel\, Pickled Peppers   \nOven Roasted Oysters\nBlack Garlic Mud Butter\, Cilantro \nENTREES \nShort Rib\n“Ossobuco”\, Polenta  \nGrilled 8oz Spinalis\nDuck Fat Roasted Potatoes\, Cowboy Butter\, Asparagus \nPan Roasted Miso Halibut\nSeared Maitake Mushrooms\, Parsnip Puree \nCoconut Vegetable Curry\nThin Wheat Noodles\, Thai Coconut Broth\, Seasonal Vegetables \nDESSERT \nChocolate and Strawberry Mousse Pie\nChocolate Mousse\, Strawberry Mousse\, Oreo Crust\, Champagne Whipped Cream \nCLICK HERE FOR RESERVATIONS
URL:https://mussandturners.com/event/2025nye/
LOCATION:Muss & Turner’s\, 1675 Cumberland Parkway SE\, Smyrna\, Georgia\, 30080
ATTACH;FMTTYPE=image/png:https://mussandturners.com/wp-content/uploads/2025/12/MT-NYE.png
ORGANIZER;CN="Muss & Turner's":MAILTO:info@mussandturners.com
END:VEVENT
END:VCALENDAR